BEGIN:VCALENDAR
VERSION:2.0
PRODID:-//MV Signa - ECPv4.6.15//NONSGML v1.0//EN
CALSCALE:GREGORIAN
METHOD:PUBLISH
X-WR-CALNAME:MV Signa
X-ORIGINAL-URL:https://mvsigna.com.au
X-WR-CALDESC:Events for MV Signa
BEGIN:VEVENT
DTSTART;TZID=UTC+8:20200127T060000
DTEND;TZID=UTC+8:20200127T133000
DTSTAMP:20200226T042204
CREATED:20200119T231946Z
LAST-MODIFIED:20200119T231946Z
UID:1691-1580104800-1580131800@mvsigna.com.au
SUMMARY:Reef Fishing 8 spots ring 0423251603
DESCRIPTION:Reef Fishing 8 spots ring 0423251603 \n
URL:https://mvsigna.com.au/calendar/reef-fishing-8-spots-ring-0423251603-3/
END:VEVENT
BEGIN:VEVENT
DTSTART;TZID=UTC+8:20200202T060000
DTEND;TZID=UTC+8:20200202T133000
DTSTAMP:20200226T042204
CREATED:20200130T005138Z
LAST-MODIFIED:20200130T005138Z
UID:1699-1580623200-1580650200@mvsigna.com.au
SUMMARY:Reef Fishing 9 spots ring 0423251603
DESCRIPTION:Reef Fishing 9 spots ring 0423251603 \n
URL:https://mvsigna.com.au/calendar/reef-fishing-9-spots-ring-0423251603/
END:VEVENT
BEGIN:VEVENT
DTSTART;TZID=UTC+8:20200208T060000
DTEND;TZID=UTC+8:20200208T133000
DTSTAMP:20200226T042204
CREATED:20200130T005332Z
LAST-MODIFIED:20200203T040719Z
UID:1701-1581141600-1581168600@mvsigna.com.au
SUMMARY:Reef Fishing 6 spots ring 0423251603
DESCRIPTION:Reef Fishing 6 spots ring 0423251603 \n
URL:https://mvsigna.com.au/calendar/reef-fishing-7-spots-ring-0423251603-2/
END:VEVENT
BEGIN:VEVENT
DTSTART;TZID=UTC+8:20200215T060000
DTEND;TZID=UTC+8:20200215T133000
DTSTAMP:20200226T042204
CREATED:20200130T221834Z
LAST-MODIFIED:20200130T223159Z
UID:1721-1581746400-1581773400@mvsigna.com.au
SUMMARY:Reef Fishing 6 spots ring 0423251603
DESCRIPTION:Reef Fishing 6 spots ring 0423251603 \n
URL:https://mvsigna.com.au/calendar/reef-fishing-6-spots-ring-0423251603-3/
END:VEVENT
BEGIN:VEVENT
DTSTART;TZID=UTC+8:20200220T060000
DTEND;TZID=UTC+8:20200220T133000
DTSTAMP:20200226T042204
CREATED:20200215T044300Z
LAST-MODIFIED:20200215T044300Z
UID:1741-1582178400-1582205400@mvsigna.com.au
SUMMARY:“Reef Fishing 6 spots ring 0423251603.
DESCRIPTION:“Reef Fishing 6 spots ring 0423251603. \n
URL:https://mvsigna.com.au/calendar/reef-fishing-6-spots-ring-0423251603-4/
END:VEVENT
BEGIN:VEVENT
DTSTART;TZID=UTC+8:20200222T060000
DTEND;TZID=UTC+8:20200222T133000
DTSTAMP:20200226T042204
CREATED:20200215T045004Z
LAST-MODIFIED:20200215T045004Z
UID:1745-1582351200-1582378200@mvsigna.com.au
SUMMARY:Fully Booked Private Charter
DESCRIPTION:Fully Booked Private Charter \n
URL:https://mvsigna.com.au/calendar/fully-booked-private-charter-8/
ATTACH;FMTTYPE=image/jpeg:https://mvsigna.com.au/wp-content/uploads/2018/02/30484_439332856577_159869056577_6308343_842003_n.jpg
END:VEVENT
BEGIN:VEVENT
DTSTART;TZID=UTC+8:20200229T060000
DTEND;TZID=UTC+8:20200229T133000
DTSTAMP:20200226T042204
CREATED:20200130T010521Z
LAST-MODIFIED:20200130T010521Z
UID:1703-1582956000-1582983000@mvsigna.com.au
SUMMARY:Fully Booked Private Charter
DESCRIPTION:Fully Booked Private Charter \n
URL:https://mvsigna.com.au/calendar/fully-booked-private-charter-7/
ATTACH;FMTTYPE=image/jpeg:https://mvsigna.com.au/wp-content/uploads/2020/01/IMG_2406-e1580346286133.jpg
END:VEVENT
END:VCALENDAR